BEGIN:VCALENDAR
VERSION:2.0
PRODID:-//wp-events-plugin.com//7.2.3.1//EN
TZID:America/Denver
X-WR-TIMEZONE:America/Denver
BEGIN:VEVENT
UID:380@coprovidersassociation.org
DTSTART;TZID=America/Denver:20251122T090000
DTEND;TZID=America/Denver:20251123T160000
DTSTAMP:20251113T165742Z
URL:https://coprovidersassociation.org/events/ccar-peer-recovery-coaching-
 and-professionalism-2/
SUMMARY:CCAR Peer Recovery Coaching and Professionalism
DESCRIPTION:The CCAR Recovery Coaching and Professionalism course is a 2-da
 y\, 12-hour training designed to equip recovery coaches with the knowledge
 \, skills\, and mindset needed to thrive in professional environments. As 
 the demand for peer recovery support grows across healthcare\, justice\, a
 nd behavioral health systems\, recovery coaches are increasingly being cal
 led upon to serve in high-impact roles within hospitals\, courts\, treatme
 nt centers\, and law enforcement settings.\nTo meet this need\, CCAR has d
 eveloped the Recovery Coaching and Professionalism training-an advanced le
 arning experience that helps coaches refine their communication\, accounta
 bility\, and boundary-setting skills while understanding what professional
 ism truly means in the context of recovery support
CATEGORIES:Additional Training,Ethics,Peer Coaching,Recovery
LOCATION:http://Zoom%20Meeting%20
END:VEVENT
BEGIN:VTIMEZONE
TZID:America/Denver
X-LIC-LOCATION:America/Denver
BEGIN:STANDARD
DTSTART:20251102T010000
TZOFFSETFROM:-0600
TZOFFSETTO:-0700
TZNAME:MST
END:STANDARD
END:VTIMEZONE
END:VCALENDAR