BEGIN:VCALENDAR
VERSION:2.0
PRODID:-//wp-events-plugin.com//7.2.3.1//EN
TZID:America/Denver
X-WR-TIMEZONE:America/Denver
BEGIN:VEVENT
UID:432@coprovidersassociation.org
DTSTART;TZID=America/Denver:20260426T130000
DTEND;TZID=America/Denver:20260426T210000
DTSTAMP:20260219T180956Z
URL:https://coprovidersassociation.org/events/ccar-hazelbrook-peer-coach-a
 cademy-recovery-coaching-in-justice-settings-2/
SUMMARY:CCAR Hazelbrook Peer Coach Academy -  Recovery Coaching in Justice 
 Settings
DESCRIPTION:CCAR Hazelbrook Peer Coach Academy - Recovery Coaching in Justi
 ce Settings 4/26/26 1 PM to 9 PM virtual thru zoom. (12 ceu)\n\nDescriptio
 n\n\nThis training is 8 hours online and 4 pre-work and homework hours. Th
 ere is no better setting to serve as recovery coaches. Many of our coaches
  know these systems well. The best resources for navigating these systems 
 are people who have used them. This is where our lived experiences will se
 rve us\, two-fold. Not only do we get to share what we know\, we get to sh
 are who we are in recovery. People who have faced jail time or incarcerati
 on have multiple barriers to overcome. We are excited to share this traini
 ng designed for recovery coaches working within a  justice setting. \n\n
 Objectives\n\nUnderstand the different justice settings where recovery coa
 ches can serve. Learn about the barriers and resources that people involve
 d within these settings can face. Explore the ethical considerations of se
 rving in these systems. Explore how culture and stigma can affect people i
 nvolved within this system and people affected by incarceration. Know how 
 to serve in the capacity of your expertise by staying in your lane. Demons
 trate how to utilize the skills of a recovery coach to support those withi
 n justice settings.\n\nAdditional training\nPart of 3 course series of CCA
 R Hazelbrook workshop with additional (32 ceu) held 4/23/26 - 4/26/26. Vis
 it website for more details.\n\nRegistration website\nhttps://hazelbrookco
 mmunity.org/peer-recovery-coach-academy/
ATTACH;FMTTYPE=image/jpeg:https://i0.wp.com/coprovidersassociation.org/wp-
 content/uploads/2026/02/HBCC-CCAR-flyer-4.jpg?fit=700%2C700&ssl=1
CATEGORIES:Additional Training,Advocacy,Ethics,Mentoring/Education,Peer
 Coaching,Prevention,Recovery/Wellness
LOCATION:https://hazelbrookcommunity.org/peer-recovery-coach-academy/
END:VEVENT
BEGIN:VTIMEZONE
TZID:America/Denver
X-LIC-LOCATION:America/Denver
BEGIN:DAYLIGHT
DTSTART:20260308T030000
TZOFFSETFROM:-0700
TZOFFSETTO:-0600
TZNAME:MDT
END:DAYLIGHT
END:VTIMEZONE
END:VCALENDAR