BEGIN:VCALENDAR
VERSION:2.0
PRODID:-//wp-events-plugin.com//7.2.3.1//EN
TZID:America/Denver
X-WR-TIMEZONE:America/Denver
BEGIN:VEVENT
UID:452@coprovidersassociation.org
DTSTART;TZID=America/New_York:20260422T090000
DTEND;TZID=America/New_York:20260424T150000
DTSTAMP:20260331T154027Z
URL:https://coprovidersassociation.org/events/ccar-ethical-considerations-
 daytime-16-hours-presented-by-prtss/
SUMMARY:CCAR Ethical Considerations {DAYTIME} (16 Hours) Presented by PRTSS
DESCRIPTION:VIRTUALLY on ZOOM in for $150\n&nbsp\;\nMeets Colorado (COPA) E
 ducational Requirements towards CPFS and NCPRSS Certification \nYou can ta
 ke these training Daytime or Evening!\n&nbsp\;\nDaytime Training schedule\
 nCCAR Ethical Considerations {DAYTIME} (16 Hours) April 22nd-24th 9 am-3p
 m\n&nbsp\;\nEvening Training schedule\nCCAR Ethical Considerations {DAYTIM
 E} (16 Hours) April 22nd-24th  5pm – 11pm\n&nbsp\;\nThese trainings are
  approved by COPA and NAADAC to meet the educational requirements toward C
 ertification. Manuals must be purchased from Amazon!\nTo Register and pay 
 please go to our website https://peerrecoverysupport.com/ccar-ethical-cons
 iderations/
ATTACH;FMTTYPE=image/jpeg:https://i0.wp.com/coprovidersassociation.org/wp-
 content/uploads/2026/03/event-5-4.jpg?fit=512%2C346&ssl=1
CATEGORIES:Additional Training,Ethics,Peer Coaching,Recovery
LOCATION:https://peerrecoverysupport.com/ccar-ethical-considerations/
END:VEVENT
BEGIN:VTIMEZONE
TZID:America/New_York
X-LIC-LOCATION:America/New_York
BEGIN:DAYLIGHT
DTSTART:20260308T030000
TZOFFSETFROM:-0500
TZOFFSETTO:-0400
TZNAME:EDT
END:DAYLIGHT
END:VTIMEZONE
END:VCALENDAR